Package: FitHiC Version: 1.30.0 Command: /home/biocbuild/R/R-beta-2024-04-15_r86425/bin/R CMD INSTALL FitHiC StartedAt: 2024-05-08 20:04:15 -0000 (Wed, 08 May 2024) EndedAt: 2024-05-08 20:04:59 -0000 (Wed, 08 May 2024) EllapsedTime: 44.4 seconds RetCode: 0 Status: OK