Package: FitHiC Version: 1.30.0 Command: rm -rf FitHiC.buildbin-libdir && mkdir FitHiC.buildbin-libdir && /Users/biocbuild/BBS/utils/build-universal.sh FitHiC_1.30.0.tar.gz /Library/Frameworks/R.framework/Resources/bin/R FitHiC.buildbin-libdir StartedAt: 2024-10-17 16:09:54 -0400 (Thu, 17 Oct 2024) EndedAt: 2024-10-17 16:10:26 -0400 (Thu, 17 Oct 2024) EllapsedTime: 32.5 seconds RetCode: 0 Status: OK PackageFile: FitHiC_1.30.0.tgz PackageFileSize: 27.95 MiB