Package: FitHiC Version: 1.30.0 Command: /Library/Frameworks/R.framework/Resources/bin/R CMD build --keep-empty-dirs --no-resave-data FitHiC StartedAt: 2024-10-16 19:16:07 -0400 (Wed, 16 Oct 2024) EndedAt: 2024-10-16 19:21:08 -0400 (Wed, 16 Oct 2024) EllapsedTime: 300.8 seconds RetCode: 0 Status: OK PackageFile: FitHiC_1.30.0.tar.gz PackageFileSize: 27.88 MiB