Package: FitHiC Version: 1.30.0 Command: F:\biocbuild\bbs-3.19-bioc\R\bin\R.exe CMD INSTALL FitHiC StartedAt: 2024-06-26 15:41:03 -0400 (Wed, 26 Jun 2024) EndedAt: 2024-06-26 15:41:34 -0400 (Wed, 26 Jun 2024) EllapsedTime: 31.3 seconds RetCode: 0 Status: OK