Package: FitHiC Version: 1.30.0 Command: chmod a+r FitHiC -R && E:\biocbuild\bbs-3.19-bioc\R\bin\R.exe CMD build --keep-empty-dirs --no-resave-data FitHiC StartedAt: 2024-10-16 19:10:32 -0400 (Wed, 16 Oct 2024) EndedAt: 2024-10-16 19:15:46 -0400 (Wed, 16 Oct 2024) EllapsedTime: 313.4 seconds RetCode: 0 Status: OK PackageFile: FitHiC_1.30.0.tar.gz PackageFileSize: 27.05 MiB