Package: FlowSOM Version: 2.12.0 Command: /Library/Frameworks/R.framework/Resources/bin/R CMD build --keep-empty-dirs --no-resave-data FlowSOM StartedAt: 2024-10-17 00:39:12 -0400 (Thu, 17 Oct 2024) EndedAt: 2024-10-17 00:41:16 -0400 (Thu, 17 Oct 2024) EllapsedTime: 123.4 seconds RetCode: 0 Status: OK PackageFile: FlowSOM_2.12.0.tar.gz PackageFileSize: 4.916 MiB