Package: FlowSOM Version: 2.12.0 Command: F:\biocbuild\bbs-3.19-bioc\R\bin\R.exe CMD INSTALL FlowSOM StartedAt: 2024-06-26 16:50:18 -0400 (Wed, 26 Jun 2024) EndedAt: 2024-06-26 16:50:46 -0400 (Wed, 26 Jun 2024) EllapsedTime: 28.0 seconds RetCode: 0 Status: OK