Package: FuseSOM Version: 1.6.0 Command: /Library/Frameworks/R.framework/Resources/bin/R CMD check --install=check:FuseSOM.install-out.txt --library=/Library/Frameworks/R.framework/Resources/library --no-vignettes --timings FuseSOM_1.6.0.tar.gz StartedAt: 2024-06-10 16:10:11 -0400 (Mon, 10 Jun 2024) EndedAt: 2024-06-10 16:15:12 -0400 (Mon, 10 Jun 2024) EllapsedTime: 301.4 seconds RetCode: 0 Status: OK CheckDir: FuseSOM.Rcheck Warnings: 0