Package: FuseSOM Version: 1.6.0 Command: /Library/Frameworks/R.framework/Resources/bin/R CMD INSTALL FuseSOM StartedAt: 2024-06-09 17:37:13 -0400 (Sun, 09 Jun 2024) EndedAt: 2024-06-09 17:37:52 -0400 (Sun, 09 Jun 2024) EllapsedTime: 38.7 seconds RetCode: 0 Status: OK