Package: GDSArray Version: 1.24.2 Command: rm -rf GDSArray.buildbin-libdir && mkdir GDSArray.buildbin-libdir && /Users/biocbuild/BBS/utils/build-universal.sh GDSArray_1.24.2.tar.gz /Library/Frameworks/R.framework/Resources/bin/R GDSArray.buildbin-libdir StartedAt: 2024-10-18 18:36:49 -0400 (Fri, 18 Oct 2024) EndedAt: 2024-10-18 18:37:14 -0400 (Fri, 18 Oct 2024) EllapsedTime: 24.8 seconds RetCode: 0 Status: OK PackageFile: GDSArray_1.24.2.tgz PackageFileSize: 658.3 KiB