Package: GDSArray Version: 1.24.2 Command: /Library/Frameworks/R.framework/Resources/bin/R CMD build --keep-empty-dirs --no-resave-data GDSArray StartedAt: 2024-10-17 00:55:48 -0400 (Thu, 17 Oct 2024) EndedAt: 2024-10-17 00:56:21 -0400 (Thu, 17 Oct 2024) EllapsedTime: 33.0 seconds RetCode: 0 Status: OK PackageFile: GDSArray_1.24.2.tar.gz PackageFileSize: 305.6 KiB