Package: GDSArray Version: 1.24.1 Command: /Library/Frameworks/R.framework/Resources/bin/R CMD INSTALL GDSArray StartedAt: 2024-06-09 15:18:53 -0400 (Sun, 09 Jun 2024) EndedAt: 2024-06-09 15:19:16 -0400 (Sun, 09 Jun 2024) EllapsedTime: 23.0 seconds RetCode: 0 Status: OK