Package: GDSArray Version: 1.24.0 Command: /home/biocbuild/R/R-beta-2024-04-15_r86425/bin/R CMD check --install=check:GDSArray.install-out.txt --library=/home/biocbuild/R/R-beta-2024-04-15_r86425/site-library --no-vignettes --timings GDSArray_1.24.0.tar.gz StartedAt: 2024-05-09 07:36:36 -0000 (Thu, 09 May 2024) EndedAt: 2024-05-09 07:39:07 -0000 (Thu, 09 May 2024) EllapsedTime: 151.3 seconds RetCode: 0 Status: WARNINGS CheckDir: GDSArray.Rcheck Warnings: 2