Package: GDSArray Version: 1.24.1 Command: rm -rf GDSArray.buildbin-libdir && mkdir GDSArray.buildbin-libdir && /Users/biocbuild/BBS/utils/build-universal.sh GDSArray_1.24.1.tar.gz /Library/Frameworks/R.framework/Resources/bin/R GDSArray.buildbin-libdir StartedAt: 2024-06-10 00:19:13 -0400 (Mon, 10 Jun 2024) EndedAt: 2024-06-10 00:19:38 -0400 (Mon, 10 Jun 2024) EllapsedTime: 24.9 seconds RetCode: 0 Status: OK PackageFile: GDSArray_1.24.1.tgz PackageFileSize: 664.9 KiB