Package: GDSArray Version: 1.24.2 Command: /Library/Frameworks/R.framework/Resources/bin/R CMD INSTALL GDSArray StartedAt: 2024-10-16 15:19:44 -0400 (Wed, 16 Oct 2024) EndedAt: 2024-10-16 15:20:25 -0400 (Wed, 16 Oct 2024) EllapsedTime: 40.8 seconds RetCode: 0 Status: OK