Package: GDSArray Version: 1.24.2 Command: /home/biocbuild/bbs-3.19-bioc/R/bin/R CMD build --keep-empty-dirs --no-resave-data GDSArray StartedAt: 2024-10-16 18:36:38 -0400 (Wed, 16 Oct 2024) EndedAt: 2024-10-16 18:37:04 -0400 (Wed, 16 Oct 2024) EllapsedTime: 26.1 seconds RetCode: 0 Status: OK PackageFile: GDSArray_1.24.2.tar.gz PackageFileSize: 305.7 KiB