Package: GDSArray Version: 1.24.1 Command: chmod a+r GDSArray -R && F:\biocbuild\bbs-3.19-bioc\R\bin\R.exe CMD build --keep-empty-dirs --no-resave-data GDSArray StartedAt: 2024-06-26 19:04:17 -0400 (Wed, 26 Jun 2024) EndedAt: 2024-06-26 19:04:51 -0400 (Wed, 26 Jun 2024) EllapsedTime: 34.4 seconds RetCode: 0 Status: OK PackageFile: GDSArray_1.24.1.tar.gz PackageFileSize: 305.8 KiB