Package: GDSArray Version: 1.24.2 Command: chmod a+r GDSArray -R && E:\biocbuild\bbs-3.19-bioc\R\bin\R.exe CMD build --keep-empty-dirs --no-resave-data GDSArray StartedAt: 2024-10-16 19:20:03 -0400 (Wed, 16 Oct 2024) EndedAt: 2024-10-16 19:21:08 -0400 (Wed, 16 Oct 2024) EllapsedTime: 65.3 seconds RetCode: 0 Status: OK PackageFile: GDSArray_1.24.2.tar.gz PackageFileSize: 305.8 KiB