Package: GDSArray Version: 1.24.2 Command: E:\biocbuild\bbs-3.19-bioc\R\bin\R.exe CMD INSTALL GDSArray StartedAt: 2024-10-16 16:15:42 -0400 (Wed, 16 Oct 2024) EndedAt: 2024-10-16 16:16:15 -0400 (Wed, 16 Oct 2024) EllapsedTime: 33.4 seconds RetCode: 0 Status: OK