Package: GENIE3 Version: 1.26.0 Command: rm -rf GENIE3.buildbin-libdir && mkdir GENIE3.buildbin-libdir && /Users/biocbuild/BBS/utils/build-universal.sh GENIE3_1.26.0.tar.gz /Library/Frameworks/R.framework/Resources/bin/R GENIE3.buildbin-libdir StartedAt: 2024-10-18 18:39:12 -0400 (Fri, 18 Oct 2024) EndedAt: 2024-10-18 18:39:21 -0400 (Fri, 18 Oct 2024) EllapsedTime: 9.1 seconds RetCode: 0 Status: OK PackageFile: GENIE3_1.26.0.tgz PackageFileSize: 263.2 KiB