Package: GENIE3 Version: 1.26.0 Command: /Library/Frameworks/R.framework/Resources/bin/R CMD build --keep-empty-dirs --no-resave-data GENIE3 StartedAt: 2024-10-17 01:03:29 -0400 (Thu, 17 Oct 2024) EndedAt: 2024-10-17 01:03:40 -0400 (Thu, 17 Oct 2024) EllapsedTime: 11.4 seconds RetCode: 0 Status: OK PackageFile: GENIE3_1.26.0.tar.gz PackageFileSize: 241.4 KiB