Package: GENIE3 Version: 1.26.0 Command: /Library/Frameworks/R.framework/Resources/bin/R CMD INSTALL GENIE3 StartedAt: 2024-06-09 15:06:21 -0400 (Sun, 09 Jun 2024) EndedAt: 2024-06-09 15:06:46 -0400 (Sun, 09 Jun 2024) EllapsedTime: 24.5 seconds RetCode: 0 Status: OK