Package: GENIE3 Version: 1.26.0 Command: /home/biocbuild/bbs-3.19-bioc/R/bin/R CMD build --keep-empty-dirs --no-resave-data GENIE3 StartedAt: 2024-10-16 18:38:49 -0400 (Wed, 16 Oct 2024) EndedAt: 2024-10-16 18:38:56 -0400 (Wed, 16 Oct 2024) EllapsedTime: 7.0 seconds RetCode: 0 Status: OK PackageFile: GENIE3_1.26.0.tar.gz PackageFileSize: 241.4 KiB