Package: GENIE3 Version: 1.26.0 Command: chmod a+r GENIE3 -R && E:\biocbuild\bbs-3.19-bioc\R\bin\R.exe CMD build --keep-empty-dirs --no-resave-data GENIE3 StartedAt: 2024-10-16 19:22:17 -0400 (Wed, 16 Oct 2024) EndedAt: 2024-10-16 19:22:32 -0400 (Wed, 16 Oct 2024) EllapsedTime: 14.7 seconds RetCode: 0 Status: OK PackageFile: GENIE3_1.26.0.tar.gz PackageFileSize: 241.5 KiB