Package: GEOexplorer Version: 1.10.0 Command: /Library/Frameworks/R.framework/Resources/bin/R CMD check --install=check:GEOexplorer.install-out.txt --library=/Library/Frameworks/R.framework/Resources/library --no-vignettes --timings GEOexplorer_1.10.0.tar.gz StartedAt: 2024-06-09 20:35:45 -0400 (Sun, 09 Jun 2024) EndedAt: 2024-06-09 20:44:00 -0400 (Sun, 09 Jun 2024) EllapsedTime: 495.0 seconds RetCode: 0 Status: WARNINGS CheckDir: GEOexplorer.Rcheck Warnings: 1