Package: GEOexplorer Version: 1.10.0 Command: /Library/Frameworks/R.framework/Resources/bin/R CMD INSTALL GEOexplorer StartedAt: 2024-06-09 15:42:34 -0400 (Sun, 09 Jun 2024) EndedAt: 2024-06-09 15:43:17 -0400 (Sun, 09 Jun 2024) EllapsedTime: 42.5 seconds RetCode: 0 Status: OK