Package: GEOexplorer Version: 1.10.0 Command: rm -rf GEOexplorer.buildbin-libdir && mkdir GEOexplorer.buildbin-libdir && E:\biocbuild\bbs-3.19-bioc\R\bin\R.exe CMD INSTALL --build --library=GEOexplorer.buildbin-libdir GEOexplorer_1.10.0.tar.gz StartedAt: 2024-10-17 07:52:15 -0400 (Thu, 17 Oct 2024) EndedAt: 2024-10-17 07:53:01 -0400 (Thu, 17 Oct 2024) EllapsedTime: 46.1 seconds RetCode: 0 Status: OK PackageFile: GEOexplorer_1.10.0.zip PackageFileSize: 7.43 MiB