Package: GEOfastq Version: 1.12.0 Command: /Library/Frameworks/R.framework/Resources/bin/R CMD build --keep-empty-dirs --no-resave-data GEOfastq StartedAt: 2024-10-17 01:14:06 -0400 (Thu, 17 Oct 2024) EndedAt: 2024-10-17 01:14:15 -0400 (Thu, 17 Oct 2024) EllapsedTime: 9.1 seconds RetCode: 0 Status: OK PackageFile: GEOfastq_1.12.0.tar.gz PackageFileSize: 13 KiB