Package: GEOfastq Version: 1.12.0 Command: /Library/Frameworks/R.framework/Resources/bin/R CMD build --keep-empty-dirs --no-resave-data GEOfastq StartedAt: 2024-06-09 16:47:12 -0400 (Sun, 09 Jun 2024) EndedAt: 2024-06-09 16:47:28 -0400 (Sun, 09 Jun 2024) EllapsedTime: 16.8 seconds RetCode: 0 Status: OK PackageFile: GEOfastq_1.12.0.tar.gz PackageFileSize: 13.15 KiB