Package: GEOfastq Version: 1.12.0 Command: /Library/Frameworks/R.framework/Resources/bin/R CMD build --keep-empty-dirs --no-resave-data GEOfastq StartedAt: 2024-10-16 19:33:02 -0400 (Wed, 16 Oct 2024) EndedAt: 2024-10-16 19:33:21 -0400 (Wed, 16 Oct 2024) EllapsedTime: 18.7 seconds RetCode: 0 Status: OK PackageFile: GEOfastq_1.12.0.tar.gz PackageFileSize: 13.15 KiB