Package: GEOquery Version: 2.72.0 Maintainer: Sean Davis MaintainerEmail: seandavi at gmail.com git_url: https://git.bioconductor.org/packages/GEOquery git_branch: RELEASE_3_19 git_last_commit: 4ab0516 git_last_commit_date: 2024-04-30 10:14:53 -0400 (Tue, 30 Apr 2024)