Package: GEOquery Version: 2.72.0 Command: rm -rf GEOquery.buildbin-libdir && mkdir GEOquery.buildbin-libdir && /Users/biocbuild/BBS/utils/build-universal.sh GEOquery_2.72.0.tar.gz /Library/Frameworks/R.framework/Resources/bin/R GEOquery.buildbin-libdir StartedAt: 2024-10-18 18:42:45 -0400 (Fri, 18 Oct 2024) EndedAt: 2024-10-18 18:42:58 -0400 (Fri, 18 Oct 2024) EllapsedTime: 13.4 seconds RetCode: 0 Status: OK PackageFile: GEOquery_2.72.0.tgz PackageFileSize: 13.27 MiB