Package: GEOquery Version: 2.72.0 Command: /Library/Frameworks/R.framework/Resources/bin/R CMD build --keep-empty-dirs --no-resave-data GEOquery StartedAt: 2024-10-17 01:14:42 -0400 (Thu, 17 Oct 2024) EndedAt: 2024-10-17 01:15:22 -0400 (Thu, 17 Oct 2024) EllapsedTime: 39.3 seconds RetCode: 0 Status: OK PackageFile: GEOquery_2.72.0.tar.gz PackageFileSize: 13.06 MiB