Package: GEOquery Version: 2.71.0 Command: /home/biocbuild/R/R-beta-2024-04-15_r86425/bin/R CMD check --install=check:GEOquery.install-out.txt --library=/home/biocbuild/R/R-beta-2024-04-15_r86425/site-library --no-vignettes --timings GEOquery_2.71.0.tar.gz StartedAt: 2024-04-27 06:13:55 -0000 (Sat, 27 Apr 2024) EndedAt: 2024-04-27 06:26:55 -0000 (Sat, 27 Apr 2024) EllapsedTime: 780.4 seconds RetCode: 1 Status: ERROR CheckDir: GEOquery.Rcheck Warnings: NA