Package: GEOquery Version: 2.72.0 Command: rm -rf GEOquery.buildbin-libdir && mkdir GEOquery.buildbin-libdir && /Users/biocbuild/BBS/utils/build-universal.sh GEOquery_2.72.0.tar.gz /Library/Frameworks/R.framework/Resources/bin/R GEOquery.buildbin-libdir StartedAt: 2024-06-10 00:20:05 -0400 (Mon, 10 Jun 2024) EndedAt: 2024-06-10 00:20:18 -0400 (Mon, 10 Jun 2024) EllapsedTime: 13.5 seconds RetCode: 0 Status: OK PackageFile: GEOquery_2.72.0.tgz PackageFileSize: 13.27 MiB