Package: GEOquery Version: 2.72.0 Command: /Library/Frameworks/R.framework/Resources/bin/R CMD INSTALL GEOquery StartedAt: 2024-10-16 15:10:58 -0400 (Wed, 16 Oct 2024) EndedAt: 2024-10-16 15:11:17 -0400 (Wed, 16 Oct 2024) EllapsedTime: 18.9 seconds RetCode: 0 Status: OK