Package: GEOquery Version: 2.72.0 Command: chmod a+r GEOquery -R && E:\biocbuild\bbs-3.19-bioc\R\bin\R.exe CMD build --keep-empty-dirs --no-resave-data GEOquery StartedAt: 2024-10-16 19:25:34 -0400 (Wed, 16 Oct 2024) EndedAt: 2024-10-16 19:26:28 -0400 (Wed, 16 Oct 2024) EllapsedTime: 54.4 seconds RetCode: 0 Status: OK PackageFile: GEOquery_2.72.0.tar.gz PackageFileSize: 13.06 MiB