Package: GEWIST Version: 1.48.0 Command: /Library/Frameworks/R.framework/Resources/bin/R CMD INSTALL GEWIST StartedAt: 2024-10-16 17:59:13 -0400 (Wed, 16 Oct 2024) EndedAt: 2024-10-16 17:59:15 -0400 (Wed, 16 Oct 2024) EllapsedTime: 2.6 seconds RetCode: 0 Status: OK