Package: GEWIST Version: 1.48.0 Command: /home/biocbuild/R/R-beta-2024-04-15_r86425/bin/R CMD build --keep-empty-dirs --no-resave-data GEWIST StartedAt: 2024-05-09 00:34:50 -0000 (Thu, 09 May 2024) EndedAt: 2024-05-09 00:38:18 -0000 (Thu, 09 May 2024) EllapsedTime: 208.3 seconds RetCode: 0 Status: OK PackageFile: GEWIST_1.48.0.tar.gz PackageFileSize: 375.3 KiB