Package: GEWIST Version: 1.48.0 Command: /Library/Frameworks/R.framework/Resources/bin/R CMD check --install=check:GEWIST.install-out.txt --library=/Library/Frameworks/R.framework/Resources/library --no-vignettes --timings GEWIST_1.48.0.tar.gz StartedAt: 2024-10-17 06:02:01 -0400 (Thu, 17 Oct 2024) EndedAt: 2024-10-17 06:03:34 -0400 (Thu, 17 Oct 2024) EllapsedTime: 93.5 seconds RetCode: 0 Status: OK CheckDir: GEWIST.Rcheck Warnings: 0