Package: GGPA Version: 1.16.0 Command: rm -rf GGPA.buildbin-libdir && mkdir GGPA.buildbin-libdir && /Users/biocbuild/BBS/utils/build-universal.sh GGPA_1.16.0.tar.gz /Library/Frameworks/R.framework/Resources/bin/R GGPA.buildbin-libdir StartedAt: 2024-06-11 11:26:35 -0400 (Tue, 11 Jun 2024) EndedAt: 2024-06-11 11:27:41 -0400 (Tue, 11 Jun 2024) EllapsedTime: 65.7 seconds RetCode: 0 Status: OK PackageFile: GGPA_1.16.0.tgz PackageFileSize: 2.863 MiB