Package: GGPA Version: 1.16.0 Command: /Library/Frameworks/R.framework/Resources/bin/R CMD build --keep-empty-dirs --no-resave-data GGPA StartedAt: 2024-06-09 22:12:08 -0400 (Sun, 09 Jun 2024) EndedAt: 2024-06-09 22:13:51 -0400 (Sun, 09 Jun 2024) EllapsedTime: 102.1 seconds RetCode: 0 Status: OK PackageFile: GGPA_1.16.0.tar.gz PackageFileSize: 4.712 MiB