Package: GGPA Version: 1.16.0 Command: rm -rf GGPA.buildbin-libdir && mkdir GGPA.buildbin-libdir && /Users/biocbuild/BBS/utils/build-universal.sh GGPA_1.16.0.tar.gz /Library/Frameworks/R.framework/Resources/bin/R GGPA.buildbin-libdir StartedAt: 2024-10-17 16:16:13 -0400 (Thu, 17 Oct 2024) EndedAt: 2024-10-17 16:17:35 -0400 (Thu, 17 Oct 2024) EllapsedTime: 82.0 seconds RetCode: 0 Status: OK PackageFile: GGPA_1.16.0.tgz PackageFileSize: 2.869 MiB