Package: GGPA Version: 1.16.0 Command: /home/biocbuild/bbs-3.19-bioc/R/bin/R CMD build --keep-empty-dirs --no-resave-data GGPA StartedAt: 2024-10-16 18:43:23 -0400 (Wed, 16 Oct 2024) EndedAt: 2024-10-16 18:44:26 -0400 (Wed, 16 Oct 2024) EllapsedTime: 63.1 seconds RetCode: 0 Status: OK PackageFile: GGPA_1.16.0.tar.gz PackageFileSize: 4.587 MiB