Package: GGPA Version: 1.16.0 Command: /home/biocbuild/bbs-3.19-bioc/R/bin/R CMD check --install=check:GGPA.install-out.txt --library=/home/biocbuild/bbs-3.19-bioc/R/site-library --timings GGPA_1.16.0.tar.gz StartedAt: 2024-10-17 00:56:01 -0400 (Thu, 17 Oct 2024) EndedAt: 2024-10-17 00:59:13 -0400 (Thu, 17 Oct 2024) EllapsedTime: 192.5 seconds RetCode: 0 Status: OK CheckDir: GGPA.Rcheck Warnings: 0