Package: GGPA Version: 1.16.0 Command: chmod a+r GGPA -R && F:\biocbuild\bbs-3.19-bioc\R\bin\R.exe CMD build --keep-empty-dirs --no-resave-data GGPA StartedAt: 2024-06-26 19:12:27 -0400 (Wed, 26 Jun 2024) EndedAt: 2024-06-26 19:14:21 -0400 (Wed, 26 Jun 2024) EllapsedTime: 114.9 seconds RetCode: 0 Status: OK PackageFile: GGPA_1.16.0.tar.gz PackageFileSize: 4.59 MiB