Package: GGPA Version: 1.16.0 Command: chmod a+r GGPA -R && E:\biocbuild\bbs-3.19-bioc\R\bin\R.exe CMD build --keep-empty-dirs --no-resave-data GGPA StartedAt: 2024-10-16 19:27:14 -0400 (Wed, 16 Oct 2024) EndedAt: 2024-10-16 19:28:56 -0400 (Wed, 16 Oct 2024) EllapsedTime: 102.5 seconds RetCode: 0 Status: OK PackageFile: GGPA_1.16.0.tar.gz PackageFileSize: 4.59 MiB