Package: GMRP Version: 1.32.0 Command: /home/biocbuild/R/R-beta-2024-04-15_r86425/bin/R CMD check --install=check:GMRP.install-out.txt --library=/home/biocbuild/R/R-beta-2024-04-15_r86425/site-library --no-vignettes --timings GMRP_1.32.0.tar.gz StartedAt: 2024-05-09 07:59:30 -0000 (Thu, 09 May 2024) EndedAt: 2024-05-09 08:00:59 -0000 (Thu, 09 May 2024) EllapsedTime: 88.1 seconds RetCode: 0 Status: OK CheckDir: GMRP.Rcheck Warnings: 0