Package: GMRP Version: 1.32.0 Command: rm -rf GMRP.buildbin-libdir && mkdir GMRP.buildbin-libdir && /Users/biocbuild/BBS/utils/build-universal.sh GMRP_1.32.0.tar.gz /Library/Frameworks/R.framework/Resources/bin/R GMRP.buildbin-libdir StartedAt: 2024-10-17 16:17:18 -0400 (Thu, 17 Oct 2024) EndedAt: 2024-10-17 16:17:45 -0400 (Thu, 17 Oct 2024) EllapsedTime: 26.5 seconds RetCode: 0 Status: OK PackageFile: GMRP_1.32.0.tgz PackageFileSize: 975.4 KiB