Package: GMRP Version: 1.32.0 Command: rm -rf GMRP.buildbin-libdir && mkdir GMRP.buildbin-libdir && F:\biocbuild\bbs-3.19-bioc\R\bin\R.exe CMD INSTALL --build --library=GMRP.buildbin-libdir GMRP_1.32.0.tar.gz StartedAt: 2024-06-27 08:18:19 -0400 (Thu, 27 Jun 2024) EndedAt: 2024-06-27 08:18:34 -0400 (Thu, 27 Jun 2024) EllapsedTime: 14.8 seconds RetCode: 0 Status: OK PackageFile: GMRP_1.32.0.zip PackageFileSize: 982.4 KiB